BEGIN:VCALENDAR
VERSION:2.0
CALSCALE:GREGORIAN
PRODID:-//Diputació de Barcelona//DibaCMS//EN
BEGIN:VEVENT
UID:9624
DTSTAMP:20260423T200059
DTSTART:20220715T210000
DTEND:20220715T000000
SUMMARY:El telescopi espacial James Webb i les seves primeres imatges. Sessions d'astronomia Infantil
LOCATION:
METHOD:PUBLISH
X-WR-CALNAME:info@parets.cat
X-WR-TIMEZONE:Europe/Madrid
DESCRIPTION:Organitza: Escola de la Natura
URI:https://www.parets.cat/actualitat/agenda/el-telescopi-espacial-james-webb-i-les-seves-primeres-imatges-sessions-dastronomia-infantil.html
CLASS:PUBLIC
END:VEVENT
END:VCALENDAR
