BEGIN:VCALENDAR
VERSION:2.0
CALSCALE:GREGORIAN
PRODID:-//Diputació de Barcelona//DibaCMS//EN
BEGIN:VEVENT
UID:9626
DTSTAMP:20260423T195258
DTSTART:20220715T173000
DTEND:20220715T193000
SUMMARY:Natura a les fosques. LA TERRA I LA LLUNA
LOCATION:
METHOD:PUBLISH
X-WR-CALNAME:info@parets.cat
X-WR-TIMEZONE:Europe/Madrid
DESCRIPTION:Organitza: Escola de la Natura
URI:https://www.parets.cat/actualitat/agenda/natura-a-les-fosques-la-terra-i-la-lluna.html
CLASS:PUBLIC
END:VEVENT
END:VCALENDAR
