BEGIN:VCALENDAR
VERSION:2.0
CALSCALE:GREGORIAN
PRODID:-//Diputació de Barcelona//DibaCMS//EN
BEGIN:VEVENT
UID:9627
DTSTAMP:20260423T211853
DTSTART:20220715T173000
DTEND:20220715T193000
SUMMARY:Taller infantil Bricomàgia: Pintacares
LOCATION:
METHOD:PUBLISH
X-WR-CALNAME:info@parets.cat
X-WR-TIMEZONE:Europe/Madrid
DESCRIPTION:Organitza: Casal de Joves Can Rajoler
URI:https://www.parets.cat/actualitat/agenda/taller-infantil-bricomagia-pintacares.html
CLASS:PUBLIC
END:VEVENT
END:VCALENDAR
