BEGIN:VCALENDAR
VERSION:2.0
CALSCALE:GREGORIAN
PRODID:-//Diputació de Barcelona//DibaCMS//EN
BEGIN:VEVENT
UID:9633
DTSTAMP:20260423T213607
DTSTART:20220715T220000
DTEND:20220715T000000
SUMMARY:Tornem a Eixamplar la Festa! Cinema. Uncharted. 
LOCATION:
METHOD:PUBLISH
X-WR-CALNAME:info@parets.cat
X-WR-TIMEZONE:Europe/Madrid
DESCRIPTION:Organitza: Ajuntament de Parets i Comissió de festes
URI:https://www.parets.cat/actualitat/agenda/tornem-a-eixamplar-la-festa-cinema-uncharted-.html
CLASS:PUBLIC
END:VEVENT
END:VCALENDAR
