BEGIN:VCALENDAR
VERSION:2.0
CALSCALE:GREGORIAN
PRODID:-//Diputació de Barcelona//DibaCMS//EN
BEGIN:VEVENT
UID:9635
DTSTAMP:20260423T213507
DTSTART:20220716T213000
DTEND:20220716T000000
SUMMARY:Tornem a Eixamplar la Festa! Cremem l'Eixample! Diables Parets! 
LOCATION:
METHOD:PUBLISH
X-WR-CALNAME:info@parets.cat
X-WR-TIMEZONE:Europe/Madrid
DESCRIPTION:Organitza: Ajuntament de Parets i Comissió de festes
URI:https://www.parets.cat/actualitat/agenda/9635-tornem-a-eixamplar-la-festa-cremem-leixample-diables-parets-.html
CLASS:PUBLIC
END:VEVENT
END:VCALENDAR
