BEGIN:VCALENDAR
VERSION:2.0
CALSCALE:GREGORIAN
PRODID:-//Diputació de Barcelona//DibaCMS//EN
BEGIN:VEVENT
UID:9637
DTSTAMP:20260423T213624
DTSTART:20220716T223000
DTEND:20220716T000000
SUMMARY:Tornem a Eixamplar la Festa! Concert de versions. Balahits. 
LOCATION:
METHOD:PUBLISH
X-WR-CALNAME:info@parets.cat
X-WR-TIMEZONE:Europe/Madrid
DESCRIPTION:Organitza: Ajuntament de Parets i Comissió de festes
URI:https://www.parets.cat/actualitat/agenda/9637-tornem-a-eixamplar-la-festa-concert-de-versions-balahits-.html
CLASS:PUBLIC
END:VEVENT
END:VCALENDAR
