BEGIN:VCALENDAR
VERSION:2.0
CALSCALE:GREGORIAN
PRODID:-//Diputació de Barcelona//DibaCMS//EN
BEGIN:VEVENT
UID:9638
DTSTAMP:20260424T004054
DTSTART:20220716T120000
DTEND:20220716T000000
SUMMARY:24 h de Futbol Sala
LOCATION:
METHOD:PUBLISH
X-WR-CALNAME:info@parets.cat
X-WR-TIMEZONE:Europe/Madrid
DESCRIPTION:Organitza: Parets per la República - Junts x Cat
URI:https://www.parets.cat/actualitat/agenda/24-h-de-futbol-sala.html
CLASS:PUBLIC
END:VEVENT
END:VCALENDAR
