BEGIN:VCALENDAR
VERSION:2.0
CALSCALE:GREGORIAN
PRODID:-//Diputació de Barcelona//DibaCMS//EN
BEGIN:VEVENT
UID:9639
DTSTAMP:20260423T200651
DTSTART:20220716T000000
DTEND:20220717T000000
SUMMARY:XXXVI 24 Hores de Futbol Sala. Torneig Jordi Turull Negre
LOCATION:
METHOD:PUBLISH
X-WR-CALNAME:info@parets.cat
X-WR-TIMEZONE:Europe/Madrid
DESCRIPTION:Organitza: Parets per la República - Junts x Cat
URI:https://www.parets.cat/actualitat/agenda/xxxvi-24-hores-de-futbol-sala-torneig-jordi-turull-negre.html
CLASS:PUBLIC
END:VEVENT
END:VCALENDAR
