BEGIN:VCALENDAR
VERSION:2.0
CALSCALE:GREGORIAN
PRODID:-//Diputació de Barcelona//DibaCMS//EN
BEGIN:VEVENT
UID:9640
DTSTAMP:20260423T212819
DTSTART:20220717T190000
DTEND:20220717T000000
SUMMARY:Festa Major: Tornem a la normalitat! Sardanes i Havaneres. 
LOCATION:
METHOD:PUBLISH
X-WR-CALNAME:info@parets.cat
X-WR-TIMEZONE:Europe/Madrid
DESCRIPTION:Organitza: Ajuntament de Parets i Comissió de festes
URI:https://www.parets.cat/actualitat/agenda/festa-major-tornem-a-la-normalitat-sardanes-i-havaneres-.html
CLASS:PUBLIC
END:VEVENT
END:VCALENDAR
