BEGIN:VCALENDAR
VERSION:2.0
CALSCALE:GREGORIAN
PRODID:-//Diputació de Barcelona//DibaCMS//EN
BEGIN:VEVENT
UID:9641
DTSTAMP:20260423T225605
DTSTART:20220717T000000
DTEND:20220717T000000
SUMMARY:24 hores de Futbol Sala
LOCATION:
METHOD:PUBLISH
X-WR-CALNAME:info@parets.cat
X-WR-TIMEZONE:Europe/Madrid
DESCRIPTION:Organitza: Parets per la República - Junts x Cat
URI:https://www.parets.cat/actualitat/agenda/24-hores-de-futbol-sala.html
CLASS:PUBLIC
END:VEVENT
END:VCALENDAR
