BEGIN:VCALENDAR
VERSION:2.0
CALSCALE:GREGORIAN
PRODID:-//Diputació de Barcelona//DibaCMS//EN
BEGIN:VEVENT
UID:9645
DTSTAMP:20260423T183300
DTSTART:20220718T173000
DTEND:20220718T193000
SUMMARY:Taller infantil Bricomàgia: Do, re, mi... crea el teu instrument!
LOCATION:
METHOD:PUBLISH
X-WR-CALNAME:info@parets.cat
X-WR-TIMEZONE:Europe/Madrid
DESCRIPTION:Organitza: Biblioteca Can Rajoler
URI:https://www.parets.cat/actualitat/agenda/taller-infantil-bricomagia-do-re-mi-crea-el-teu-instrument.html
CLASS:PUBLIC
END:VEVENT
END:VCALENDAR
