BEGIN:VCALENDAR
VERSION:2.0
CALSCALE:GREGORIAN
PRODID:-//Diputació de Barcelona//DibaCMS//EN
BEGIN:VEVENT
UID:9647
DTSTAMP:20260423T201709
DTSTART:20220719T180000
DTEND:20220719T000000
SUMMARY:Festa Major: Tornem a la normalitat! Rediversió. Set de So. 
LOCATION:
METHOD:PUBLISH
X-WR-CALNAME:info@parets.cat
X-WR-TIMEZONE:Europe/Madrid
DESCRIPTION:Organitza: Ajuntament de Parets i Comissió de festes
URI:https://www.parets.cat/actualitat/agenda/9647-festa-major-tornem-a-la-normalitat-rediversio-set-de-so-.html
CLASS:PUBLIC
END:VEVENT
END:VCALENDAR
