BEGIN:VCALENDAR
VERSION:2.0
CALSCALE:GREGORIAN
PRODID:-//Diputació de Barcelona//DibaCMS//EN
BEGIN:VEVENT
UID:9649
DTSTAMP:20260423T200611
DTSTART:20220720T200000
DTEND:20220720T000000
SUMMARY:Festa Major: Tornem a la normalitat! Taller Veus de Parets a càrrec de Queralt Riera. 
LOCATION:
METHOD:PUBLISH
X-WR-CALNAME:info@parets.cat
X-WR-TIMEZONE:Europe/Madrid
DESCRIPTION:Organitza: Ajuntament de Parets i Comissió de festes
URI:https://www.parets.cat/actualitat/agenda/festa-major-tornem-a-la-normalitat-taller-veus-de-parets-a-carrec-de-queralt-riera-.html
CLASS:PUBLIC
END:VEVENT
END:VCALENDAR
