BEGIN:VCALENDAR
VERSION:2.0
CALSCALE:GREGORIAN
PRODID:-//Diputació de Barcelona//DibaCMS//EN
BEGIN:VEVENT
UID:9651
DTSTAMP:20260423T183546
DTSTART:20220720T170000
DTEND:20220720T190000
SUMMARY:Gimcana aquàtica
LOCATION:
METHOD:PUBLISH
X-WR-CALNAME:info@parets.cat
X-WR-TIMEZONE:Europe/Madrid
DESCRIPTION:Organitza: Casal de Joves Cal Jardiner
URI:https://www.parets.cat/actualitat/agenda/9651-gimcana-aquatica.html
CLASS:PUBLIC
END:VEVENT
END:VCALENDAR
