BEGIN:VCALENDAR
VERSION:2.0
CALSCALE:GREGORIAN
PRODID:-//Diputació de Barcelona//DibaCMS//EN
BEGIN:VEVENT
UID:9655
DTSTAMP:20260423T061505
DTSTART:20220722T210000
DTEND:20220722T000000
SUMMARY:Concert en directe de Nerea González
LOCATION:
METHOD:PUBLISH
X-WR-CALNAME:info@parets.cat
X-WR-TIMEZONE:Europe/Madrid
DESCRIPTION:Organitza: Llevantpark
URI:https://www.parets.cat/actualitat/agenda/concert-en-directe-de-nerea-gonzalez.html
CLASS:PUBLIC
END:VEVENT
END:VCALENDAR
