BEGIN:VCALENDAR
VERSION:2.0
CALSCALE:GREGORIAN
PRODID:-//Diputació de Barcelona//DibaCMS//EN
BEGIN:VEVENT
UID:9656
DTSTAMP:20260423T093135
DTSTART:20220723T000000
DTEND:20220723T000000
SUMMARY:Festa Major: Tornem a la normalitat!
LOCATION:
METHOD:PUBLISH
X-WR-CALNAME:info@parets.cat
X-WR-TIMEZONE:Europe/Madrid
DESCRIPTION:Organitza: Ajuntament de Parets i Comissió de festes
URI:https://www.parets.cat/actualitat/agenda/9656-festa-major-tornem-a-la-normalitat.html
CLASS:PUBLIC
END:VEVENT
END:VCALENDAR
