BEGIN:VCALENDAR
VERSION:2.0
CALSCALE:GREGORIAN
PRODID:-//Diputació de Barcelona//DibaCMS//EN
BEGIN:VEVENT
UID:9659
DTSTAMP:20260423T093409
DTSTART:20220904T160000
DTEND:20220904T000000
SUMMARY:Festival Jornades Internacionals Folklòriques de Catalunya
LOCATION:
METHOD:PUBLISH
X-WR-CALNAME:info@parets.cat
X-WR-TIMEZONE:Europe/Madrid
DESCRIPTION:Organitza: Colla de Ball de Gitanes de Parets i Adifolk
URI:https://www.parets.cat/actualitat/agenda/festival-jornades-internacionals-folkloriques-de-catalunya.html
CLASS:PUBLIC
END:VEVENT
END:VCALENDAR
