BEGIN:VCALENDAR
VERSION:2.0
CALSCALE:GREGORIAN
PRODID:-//Diputació de Barcelona//DibaCMS//EN
BEGIN:VEVENT
UID:9660
DTSTAMP:20260423T012317
DTSTART:20220907T153000
DTEND:20220907T000000
SUMMARY:Acte d'inauguració del curs escolar 2022/2023. xerrada Visibitlitzar l'invisible.
LOCATION:
METHOD:PUBLISH
X-WR-CALNAME:info@parets.cat
X-WR-TIMEZONE:Europe/Madrid
DESCRIPTION:Organitza: Servei d'Educació
URI:https://www.parets.cat/actualitat/agenda/9660-acte-dinauguracio-del-curs-escolar-20222023-xerrada-visibitlitzar-linvisible.html
CLASS:PUBLIC
END:VEVENT
END:VCALENDAR
