BEGIN:VCALENDAR
VERSION:2.0
CALSCALE:GREGORIAN
PRODID:-//Diputació de Barcelona//DibaCMS//EN
BEGIN:VEVENT
UID:9662
DTSTAMP:20260423T075013
DTSTART:20220910T220000
DTEND:20220910T000000
SUMMARY:Concert de la Salseta del Poble Sec 45 anys
LOCATION:
METHOD:PUBLISH
X-WR-CALNAME:info@parets.cat
X-WR-TIMEZONE:Europe/Madrid
DESCRIPTION:Organitza: Ajuntament de Parets del Vallès
URI:https://www.parets.cat/actualitat/agenda/concert-de-la-salseta-del-poble-sec-45-anys.html
CLASS:PUBLIC
END:VEVENT
END:VCALENDAR
