BEGIN:VCALENDAR
VERSION:2.0
CALSCALE:GREGORIAN
PRODID:-//Diputació de Barcelona//DibaCMS//EN
BEGIN:VEVENT
UID:9663
DTSTAMP:20260423T035012
DTSTART:20220911T213000
DTEND:20220911T000000
SUMMARY:Diada Nacional de Catalunya. 1a part: ballada de Sardanes
LOCATION:
METHOD:PUBLISH
X-WR-CALNAME:info@parets.cat
X-WR-TIMEZONE:Europe/Madrid
DESCRIPTION:Organitza: Ajuntament de Parets del Vallès
URI:https://www.parets.cat/actualitat/agenda/diada-nacional-de-catalunya-1a-part-ballada-de-sardanes.html
CLASS:PUBLIC
END:VEVENT
END:VCALENDAR
