BEGIN:VCALENDAR
VERSION:2.0
CALSCALE:GREGORIAN
PRODID:-//Diputació de Barcelona//DibaCMS//EN
BEGIN:VEVENT
UID:9664
DTSTAMP:20260423T163721
DTSTART:20220911T110000
DTEND:20220911T000000
SUMMARY:Diada Nacional de Catalunya: ofrena floral de les institucions i entitats de la vila davant del monument al 1714
LOCATION:
METHOD:PUBLISH
X-WR-CALNAME:info@parets.cat
X-WR-TIMEZONE:Europe/Madrid
DESCRIPTION:Organitza: Ajuntament de Parets del Vallès
URI:https://www.parets.cat/actualitat/agenda/diada-nacional-de-catalunya-ofrena-floral-de-les-institucions-i-entitats-de-la-vila-davant-del-monument-al-1714.html
CLASS:PUBLIC
END:VEVENT
END:VCALENDAR
