BEGIN:VCALENDAR
VERSION:2.0
CALSCALE:GREGORIAN
PRODID:-//Diputació de Barcelona//DibaCMS//EN
BEGIN:VEVENT
UID:9666
DTSTAMP:20260423T035112
DTSTART:20220915T193000
DTEND:20220915T000000
SUMMARY:Liberté. Sàndal Produccions.
LOCATION:
METHOD:PUBLISH
X-WR-CALNAME:info@parets.cat
X-WR-TIMEZONE:Europe/Madrid
DESCRIPTION:Organitza: Servei de Cultura
URI:https://www.parets.cat/actualitat/agenda/liberte-sandal-produccions.html
CLASS:PUBLIC
END:VEVENT
END:VCALENDAR
