BEGIN:VCALENDAR
VERSION:2.0
CALSCALE:GREGORIAN
PRODID:-//Diputació de Barcelona//DibaCMS//EN
BEGIN:VEVENT
UID:9667
DTSTAMP:20260423T061836
DTSTART:20220916T103000
DTEND:20220916T120000
SUMMARY:Evoca: tècniques per a una memòria saludable
LOCATION:
METHOD:PUBLISH
X-WR-CALNAME:info@parets.cat
X-WR-TIMEZONE:Europe/Madrid
DESCRIPTION:Organitza: Servei de Gent Gran
URI:https://www.parets.cat/actualitat/agenda/evoca-tecniques-per-a-una-memoria-saludable.html
CLASS:PUBLIC
END:VEVENT
END:VCALENDAR
