BEGIN:VCALENDAR
VERSION:2.0
CALSCALE:GREGORIAN
PRODID:-//Diputació de Barcelona//DibaCMS//EN
BEGIN:VEVENT
UID:9668
DTSTAMP:20260423T022143
DTSTART:20220916T000000
DTEND:20220922T000000
SUMMARY:BUS URBÀ GRATUÏT. Setmana Europea de la mobilitat
LOCATION:
METHOD:PUBLISH
X-WR-CALNAME:info@parets.cat
X-WR-TIMEZONE:Europe/Madrid
DESCRIPTION:Organitza: Servei de Transports
URI:https://www.parets.cat/actualitat/agenda/bus-urba-gratut-setmana-europea-de-la-mobilitat.html
CLASS:PUBLIC
END:VEVENT
END:VCALENDAR
