BEGIN:VCALENDAR
VERSION:2.0
CALSCALE:GREGORIAN
PRODID:-//Diputació de Barcelona//DibaCMS//EN
BEGIN:VEVENT
UID:9669
DTSTAMP:20260423T164936
DTSTART:20220925T100000
DTEND:20220925T000000
SUMMARY:Diada de la bicicleta
LOCATION:
METHOD:PUBLISH
X-WR-CALNAME:info@parets.cat
X-WR-TIMEZONE:Europe/Madrid
DESCRIPTION:Organitza: Bikers Parets
URI:https://www.parets.cat/actualitat/agenda/diada-de-la-bicicleta.html
CLASS:PUBLIC
END:VEVENT
END:VCALENDAR
