BEGIN:VCALENDAR
VERSION:2.0
CALSCALE:GREGORIAN
PRODID:-//Diputació de Barcelona//DibaCMS//EN
BEGIN:VEVENT
UID:9671
DTSTAMP:20260423T193727
DTSTART:20220930T100000
DTEND:20220930T130000
SUMMARY:Sortida de marxa nòrdica
LOCATION:
METHOD:PUBLISH
X-WR-CALNAME:info@parets.cat
X-WR-TIMEZONE:Europe/Madrid
DESCRIPTION:Organitza: Servei de Gent Gran
URI:https://www.parets.cat/actualitat/agenda/sortida-de-marxa-nordica.html
CLASS:PUBLIC
END:VEVENT
END:VCALENDAR
