BEGIN:VCALENDAR
VERSION:2.0
CALSCALE:GREGORIAN
PRODID:-//Diputació de Barcelona//DibaCMS//EN
BEGIN:VEVENT
UID:9672
DTSTAMP:20260423T145604
DTSTART:20220930T170000
DTEND:20221010T000000
SUMMARY:Exposició de pintura "Ments Creatives"
LOCATION:
METHOD:PUBLISH
X-WR-CALNAME:info@parets.cat
X-WR-TIMEZONE:Europe/Madrid
DESCRIPTION:Organitza: Servei de Cultura
URI:https://www.parets.cat/actualitat/agenda/exposicio-de-pintura-ments-creatives.html
CLASS:PUBLIC
END:VEVENT
END:VCALENDAR
