BEGIN:VCALENDAR
VERSION:2.0
CALSCALE:GREGORIAN
PRODID:-//Diputació de Barcelona//DibaCMS//EN
BEGIN:VEVENT
UID:9674
DTSTAMP:20260423T072834
DTSTART:20221001T173000
DTEND:20230630T190000
SUMMARY:Club de Lectura - Cicle Mitjà
LOCATION:
METHOD:PUBLISH
X-WR-CALNAME:info@parets.cat
X-WR-TIMEZONE:Europe/Madrid
DESCRIPTION:Organitza: Biblioteca Can Butjosa
URI:https://www.parets.cat/actualitat/agenda/9674-club-de-lectura-cicle-mitja.html
CLASS:PUBLIC
END:VEVENT
END:VCALENDAR
