BEGIN:VCALENDAR
VERSION:2.0
CALSCALE:GREGORIAN
PRODID:-//Diputació de Barcelona//DibaCMS//EN
BEGIN:VEVENT
UID:9676
DTSTAMP:20260423T163330
DTSTART:20221002T183000
DTEND:20221002T000000
SUMMARY:"L'Oreneta" de Guillem Clua
LOCATION:
METHOD:PUBLISH
X-WR-CALNAME:info@parets.cat
X-WR-TIMEZONE:Europe/Madrid
DESCRIPTION:Organitza: Servei de Cultura
URI:https://www.parets.cat/actualitat/agenda/loreneta-de-guillem-clua.html
CLASS:PUBLIC
END:VEVENT
END:VCALENDAR
