BEGIN:VCALENDAR
VERSION:2.0
CALSCALE:GREGORIAN
PRODID:-//Diputació de Barcelona//DibaCMS//EN
BEGIN:VEVENT
UID:9677
DTSTAMP:20260422T233506
DTSTART:20221003T100000
DTEND:20221003T120000
SUMMARY:Inici temporada Parets amb flors
LOCATION:
METHOD:PUBLISH
X-WR-CALNAME:info@parets.cat
X-WR-TIMEZONE:Europe/Madrid
DESCRIPTION:Organitza: Escola de la Natura
URI:https://www.parets.cat/actualitat/agenda/inici-temporada-parets-amb-flors.html
CLASS:PUBLIC
END:VEVENT
END:VCALENDAR
