BEGIN:VCALENDAR
VERSION:2.0
CALSCALE:GREGORIAN
PRODID:-//Diputació de Barcelona//DibaCMS//EN
BEGIN:VEVENT
UID:9678
DTSTAMP:20260422T233406
DTSTART:20221004T173000
DTEND:20221004T000000
SUMMARY:Story Time: Where's spot
LOCATION:
METHOD:PUBLISH
X-WR-CALNAME:info@parets.cat
X-WR-TIMEZONE:Europe/Madrid
DESCRIPTION:Organitza: Biblioteca Can Rajoler
URI:https://www.parets.cat/actualitat/agenda/story-time-wheres-spot.html
CLASS:PUBLIC
END:VEVENT
END:VCALENDAR
