BEGIN:VCALENDAR
VERSION:2.0
CALSCALE:GREGORIAN
PRODID:-//Diputació de Barcelona//DibaCMS//EN
BEGIN:VEVENT
UID:9680
DTSTAMP:20260423T183029
DTSTART:20221005T170000
DTEND:20221005T210000
SUMMARY:Recapte de Sang
LOCATION:
METHOD:PUBLISH
X-WR-CALNAME:info@parets.cat
X-WR-TIMEZONE:Europe/Madrid
DESCRIPTION:Organitza: Banc de sang i teixits
URI:https://www.parets.cat/actualitat/agenda/recapte-de-sang.html
CLASS:PUBLIC
END:VEVENT
END:VCALENDAR
