BEGIN:VCALENDAR
VERSION:2.0
CALSCALE:GREGORIAN
PRODID:-//Diputació de Barcelona//DibaCMS//EN
BEGIN:VEVENT
UID:9684
DTSTAMP:20260423T055016
DTSTART:20221007T110000
DTEND:20221007T000000
SUMMARY:Visita guiada a l'antiga factoria Tipel
LOCATION:
METHOD:PUBLISH
X-WR-CALNAME:info@parets.cat
X-WR-TIMEZONE:Europe/Madrid
DESCRIPTION:Organitza: Servei de Patrimoni Cultural
URI:https://www.parets.cat/actualitat/agenda/visita-guiada-a-lantiga-factoria-tipel.html
CLASS:PUBLIC
END:VEVENT
END:VCALENDAR
