BEGIN:VCALENDAR
VERSION:2.0
CALSCALE:GREGORIAN
PRODID:-//Diputació de Barcelona//DibaCMS//EN
BEGIN:VEVENT
UID:9685
DTSTAMP:20260423T055234
DTSTART:20221007T200000
DTEND:20221007T000000
SUMMARY:Les imatges del telescopi James Webb. Sessions d'astronomia
LOCATION:
METHOD:PUBLISH
X-WR-CALNAME:info@parets.cat
X-WR-TIMEZONE:Europe/Madrid
DESCRIPTION:Organitza: Escola de la Natura
URI:https://www.parets.cat/actualitat/agenda/les-imatges-del-telescopi-james-webb-sessions-dastronomia.html
CLASS:PUBLIC
END:VEVENT
END:VCALENDAR
