BEGIN:VCALENDAR
VERSION:2.0
CALSCALE:GREGORIAN
PRODID:-//Diputació de Barcelona//DibaCMS//EN
BEGIN:VEVENT
UID:9687
DTSTAMP:20260423T054935
DTSTART:20221008T110000
DTEND:20221008T000000
SUMMARY:Jornades Europees de Patrimoni. Caminada des de la plaça de la Vila fins al Forn
LOCATION:
METHOD:PUBLISH
X-WR-CALNAME:info@parets.cat
X-WR-TIMEZONE:Europe/Madrid
DESCRIPTION:Organitza: Servei de Patrimoni Cultural
URI:https://www.parets.cat/actualitat/agenda/jornades-europees-de-patrimoni-caminada-des-de-la-placa-de-la-vila-fins-al-forn.html
CLASS:PUBLIC
END:VEVENT
END:VCALENDAR
