BEGIN:VCALENDAR
VERSION:2.0
CALSCALE:GREGORIAN
PRODID:-//Diputació de Barcelona//DibaCMS//EN
BEGIN:VEVENT
UID:9690
DTSTAMP:20260423T182438
DTSTART:20221009T090000
DTEND:20221009T000000
SUMMARY:La Cursa de Parets del Vallès
LOCATION:
METHOD:PUBLISH
X-WR-CALNAME:info@parets.cat
X-WR-TIMEZONE:Europe/Madrid
DESCRIPTION:Organitza: Servei d'Esports
URI:https://www.parets.cat/actualitat/agenda/la-cursa-de-parets-del-valles.html
CLASS:PUBLIC
END:VEVENT
END:VCALENDAR
