BEGIN:VCALENDAR
VERSION:2.0
CALSCALE:GREGORIAN
PRODID:-//Diputació de Barcelona//DibaCMS//EN
BEGIN:VEVENT
UID:9692
DTSTAMP:20260423T055843
DTSTART:20221009T110000
DTEND:20221009T210000
SUMMARY:Posa't wap@!
LOCATION:
METHOD:PUBLISH
X-WR-CALNAME:info@parets.cat
X-WR-TIMEZONE:Europe/Madrid
DESCRIPTION:Organitza: Servei de Comerç
URI:https://www.parets.cat/actualitat/agenda/9692-posat-wapa.html
CLASS:PUBLIC
END:VEVENT
END:VCALENDAR
