BEGIN:VCALENDAR
VERSION:2.0
CALSCALE:GREGORIAN
PRODID:-//Diputació de Barcelona//DibaCMS//EN
BEGIN:VEVENT
UID:9693
DTSTAMP:20260423T055205
DTSTART:20221009T110000
DTEND:20221009T000000
SUMMARY:Visita guiada a  la Torre Cellers
LOCATION:
METHOD:PUBLISH
X-WR-CALNAME:info@parets.cat
X-WR-TIMEZONE:Europe/Madrid
DESCRIPTION:Organitza: Servei de Patrimoni Cultural
URI:https://www.parets.cat/actualitat/agenda/visita-guiada-a-la-torre-cellers.html
CLASS:PUBLIC
END:VEVENT
END:VCALENDAR
