BEGIN:VCALENDAR
VERSION:2.0
CALSCALE:GREGORIAN
PRODID:-//Diputació de Barcelona//DibaCMS//EN
BEGIN:VEVENT
UID:9694
DTSTAMP:20260423T055742
DTSTART:20221010T183000
DTEND:20221010T000000
SUMMARY:Guoupe de conversation en français
LOCATION:
METHOD:PUBLISH
X-WR-CALNAME:info@parets.cat
X-WR-TIMEZONE:Europe/Madrid
DESCRIPTION:Organitza: Biblioteca Can Rajoler
URI:https://www.parets.cat/actualitat/agenda/guoupe-de-conversation-en-francais.html
CLASS:PUBLIC
END:VEVENT
END:VCALENDAR
