BEGIN:VCALENDAR
VERSION:2.0
CALSCALE:GREGORIAN
PRODID:-//Diputació de Barcelona//DibaCMS//EN
BEGIN:VEVENT
UID:9697
DTSTAMP:20260423T055346
DTSTART:20221014T000000
DTEND:20221014T000000
SUMMARY:Exposició "15 anys acollint i compartint"
LOCATION:
METHOD:PUBLISH
X-WR-CALNAME:info@parets.cat
X-WR-TIMEZONE:Europe/Madrid
DESCRIPTION:Organitza: Servei d'Acollida
URI:https://www.parets.cat/actualitat/agenda/exposicio-15-anys-acollint-i-compartint.html
CLASS:PUBLIC
END:VEVENT
END:VCALENDAR
