BEGIN:VCALENDAR
VERSION:2.0
CALSCALE:GREGORIAN
PRODID:-//Diputació de Barcelona//DibaCMS//EN
BEGIN:VEVENT
UID:9698
DTSTAMP:20260423T072149
DTSTART:20221014T180000
DTEND:20221014T000000
SUMMARY:Club de Literatura Infantil i Juvenil per a adults
LOCATION:
METHOD:PUBLISH
X-WR-CALNAME:info@parets.cat
X-WR-TIMEZONE:Europe/Madrid
DESCRIPTION:Organitza: Biblioteca Can Butjosa
URI:https://www.parets.cat/actualitat/agenda/club-de-literatura-infantil-i-juvenil-per-a-adults.html
CLASS:PUBLIC
END:VEVENT
END:VCALENDAR
