BEGIN:VCALENDAR
VERSION:2.0
CALSCALE:GREGORIAN
PRODID:-//Diputació de Barcelona//DibaCMS//EN
BEGIN:VEVENT
UID:9699
DTSTAMP:20260423T004144
DTSTART:20221014T200000
DTEND:20221014T000000
SUMMARY:Projecció de la pel·lícula "Sis dies corrents"
LOCATION:
METHOD:PUBLISH
X-WR-CALNAME:info@parets.cat
X-WR-TIMEZONE:Europe/Madrid
DESCRIPTION:Organitza: Servei d'Acollida
URI:https://www.parets.cat/actualitat/agenda/projeccio-de-la-pellicula-sis-dies-corrents.html
CLASS:PUBLIC
END:VEVENT
END:VCALENDAR
