BEGIN:VCALENDAR
VERSION:2.0
CALSCALE:GREGORIAN
PRODID:-//Diputació de Barcelona//DibaCMS//EN
BEGIN:VEVENT
UID:9701
DTSTAMP:20260423T021945
DTSTART:20221016T183000
DTEND:20221016T000000
SUMMARY:Historias extraordinarias. Javier Gurruchaga y la Orquesta Mondragón
LOCATION:
METHOD:PUBLISH
X-WR-CALNAME:info@parets.cat
X-WR-TIMEZONE:Europe/Madrid
DESCRIPTION:Organitza: Servei de Cultura
URI:https://www.parets.cat/actualitat/agenda/historias-extraordinarias-javier-gurruchaga-y-la-orquesta-mondragon.html
CLASS:PUBLIC
END:VEVENT
END:VCALENDAR
