BEGIN:VCALENDAR
VERSION:2.0
CALSCALE:GREGORIAN
PRODID:-//Diputació de Barcelona//DibaCMS//EN
BEGIN:VEVENT
UID:9704
DTSTAMP:20260423T004215
DTSTART:20221019T180000
DTEND:20221019T000000
SUMMARY:Club de Literatura juvenil 
LOCATION:
METHOD:PUBLISH
X-WR-CALNAME:info@parets.cat
X-WR-TIMEZONE:Europe/Madrid
DESCRIPTION:Organitza: Biblioteca Can Butjosa
URI:https://www.parets.cat/actualitat/agenda/club-de-literatura-juvenil-.html
CLASS:PUBLIC
END:VEVENT
END:VCALENDAR
