BEGIN:VCALENDAR
VERSION:2.0
CALSCALE:GREGORIAN
PRODID:-//Diputació de Barcelona//DibaCMS//EN
BEGIN:VEVENT
UID:9705
DTSTAMP:20260423T022507
DTSTART:20221019T183000
DTEND:20221019T000000
SUMMARY:Descobreix d'art: Cultura i frau en l'art
LOCATION:
METHOD:PUBLISH
X-WR-CALNAME:info@parets.cat
X-WR-TIMEZONE:Europe/Madrid
DESCRIPTION:Organitza: Biblioteca Can Butjosa
URI:https://www.parets.cat/actualitat/agenda/descobreix-dart-cultura-i-frau-en-lart.html
CLASS:PUBLIC
END:VEVENT
END:VCALENDAR
