BEGIN:VCALENDAR
VERSION:2.0
CALSCALE:GREGORIAN
PRODID:-//Diputació de Barcelona//DibaCMS//EN
BEGIN:VEVENT
UID:9706
DTSTAMP:20260423T070735
DTSTART:20221020T180000
DTEND:20221020T000000
SUMMARY:Hora del conte amb Gemma G. Vilardell
LOCATION:
METHOD:PUBLISH
X-WR-CALNAME:info@parets.cat
X-WR-TIMEZONE:Europe/Madrid
DESCRIPTION:Organitza: Biblioteca Can Butjosa
URI:https://www.parets.cat/actualitat/agenda/hora-del-conte-amb-gemma-g-vilardell.html
CLASS:PUBLIC
END:VEVENT
END:VCALENDAR
