BEGIN:VCALENDAR
VERSION:2.0
CALSCALE:GREGORIAN
PRODID:-//Diputació de Barcelona//DibaCMS//EN
BEGIN:VEVENT
UID:9708
DTSTAMP:20260423T022434
DTSTART:20221021T180000
DTEND:20221021T000000
SUMMARY:Coneix la viola de roda, un instrument medieval
LOCATION:
METHOD:PUBLISH
X-WR-CALNAME:info@parets.cat
X-WR-TIMEZONE:Europe/Madrid
DESCRIPTION:Organitza: Casal de Joves Cal Jardiner
URI:https://www.parets.cat/actualitat/agenda/coneix-la-viola-de-roda-un-instrument-medieval.html
CLASS:PUBLIC
END:VEVENT
END:VCALENDAR
