BEGIN:VCALENDAR
VERSION:2.0
CALSCALE:GREGORIAN
PRODID:-//Diputació de Barcelona//DibaCMS//EN
BEGIN:VEVENT
UID:9709
DTSTAMP:20260422T214755
DTSTART:20221021T180000
DTEND:20221021T000000
SUMMARY:Primer torneig de ping-pong multiespai del Vallès Oriental
LOCATION:
METHOD:PUBLISH
X-WR-CALNAME:info@parets.cat
X-WR-TIMEZONE:Europe/Madrid
DESCRIPTION:Organitza: Casal de Joves Cal Jardiner
URI:https://www.parets.cat/actualitat/agenda/primer-torneig-de-ping-pong-multiespai-del-valles-oriental.html
CLASS:PUBLIC
END:VEVENT
END:VCALENDAR
