BEGIN:VCALENDAR
VERSION:2.0
CALSCALE:GREGORIAN
PRODID:-//Diputació de Barcelona//DibaCMS//EN
BEGIN:VEVENT
UID:9710
DTSTAMP:20260422T233617
DTSTART:20221021T190000
DTEND:20221021T000000
SUMMARY:Busquem astronautes per anar a la Lluna
LOCATION:
METHOD:PUBLISH
X-WR-CALNAME:info@parets.cat
X-WR-TIMEZONE:Europe/Madrid
DESCRIPTION:Organitza: Escola de la Natura
URI:https://www.parets.cat/actualitat/agenda/busquem-astronautes-per-anar-a-la-lluna.html
CLASS:PUBLIC
END:VEVENT
END:VCALENDAR
