BEGIN:VCALENDAR
VERSION:2.0
CALSCALE:GREGORIAN
PRODID:-//Diputació de Barcelona//DibaCMS//EN
BEGIN:VEVENT
UID:9712
DTSTAMP:20260422T230511
DTSTART:20221024T180000
DTEND:20221024T000000
SUMMARY:35è Festival de poesia
LOCATION:
METHOD:PUBLISH
X-WR-CALNAME:info@parets.cat
X-WR-TIMEZONE:Europe/Madrid
DESCRIPTION:Organitza: Niu d'Art
URI:https://www.parets.cat/actualitat/agenda/35e-festival-de-poesia.html
CLASS:PUBLIC
END:VEVENT
END:VCALENDAR
